Package: BREW3R.r Version: 1.2.0 Command: F:\biocbuild\bbs-3.20-bioc\R\bin\R.exe CMD check --no-multiarch --install=check:BREW3R.r.install-out.txt --library=F:\biocbuild\bbs-3.20-bioc\R\library --no-vignettes --timings BREW3R.r_1.2.0.tar.gz StartedAt: 2025-01-31 00:02:40 -0500 (Fri, 31 Jan 2025) EndedAt: 2025-01-31 00:05:26 -0500 (Fri, 31 Jan 2025) EllapsedTime: 165.9 seconds RetCode: 0 Status: OK CheckDir: BREW3R.r.Rcheck Warnings: 0