Package: BREW3R.r Version: 1.2.0 Command: F:\biocbuild\bbs-3.20-bioc\R\bin\R.exe CMD INSTALL BREW3R.r StartedAt: 2025-01-30 15:38:30 -0500 (Thu, 30 Jan 2025) EndedAt: 2025-01-30 15:38:45 -0500 (Thu, 30 Jan 2025) EllapsedTime: 15.0 seconds RetCode: 0 Status: OK