Package: BREW3R.r Version: 1.2.0 Command: /home/biocbuild/bbs-3.20-bioc/R/bin/R CMD build --keep-empty-dirs --no-resave-data BREW3R.r StartedAt: 2024-11-19 17:50:41 -0500 (Tue, 19 Nov 2024) EndedAt: 2024-11-19 17:51:11 -0500 (Tue, 19 Nov 2024) EllapsedTime: 30.0 seconds RetCode: 0 Status: OK PackageFile: BREW3R.r_1.2.0.tar.gz PackageFileSize: 1.887 MiB