Package: BRGenomics Version: 1.18.0 Command: /Library/Frameworks/R.framework/Resources/bin/R CMD build --keep-empty-dirs --no-resave-data BRGenomics StartedAt: 2024-11-08 16:18:35 -0500 (Fri, 08 Nov 2024) EndedAt: 2024-11-08 16:19:07 -0500 (Fri, 08 Nov 2024) EllapsedTime: 32.4 seconds RetCode: 0 Status: OK PackageFile: BRGenomics_1.18.0.tar.gz PackageFileSize: 3.968 MiB