Package: BRGenomics Version: 1.18.0 Command: /home/biocbuild/bbs-3.20-bioc/R/bin/R CMD build --keep-empty-dirs --no-resave-data --md5 BRGenomics StartedAt: 2025-01-30 16:30:41 -0500 (Thu, 30 Jan 2025) EndedAt: 2025-01-30 16:32:01 -0500 (Thu, 30 Jan 2025) EllapsedTime: 80.1 seconds RetCode: 0 Status: OK PackageFile: BRGenomics_1.18.0.tar.gz PackageFileSize: 4.195 MiB