Package: BRGenomics Version: 1.18.0 Command: /home/biocbuild/bbs-3.20-bioc/R/bin/R CMD check --install=check:BRGenomics.install-out.txt --library=/home/biocbuild/bbs-3.20-bioc/R/site-library --timings BRGenomics_1.18.0.tar.gz StartedAt: 2025-01-30 20:26:23 -0500 (Thu, 30 Jan 2025) EndedAt: 2025-01-30 21:06:23 -0500 (Thu, 30 Jan 2025) EllapsedTime: 2400.6 seconds RetCode: None Status: TIMEOUT CheckDir: BRGenomics.Rcheck Warnings: NA