Package: BRGenomics Version: 1.18.0 Command: rm -rf BRGenomics.buildbin-libdir && mkdir BRGenomics.buildbin-libdir && F:\biocbuild\bbs-3.20-bioc\R\bin\R.exe CMD INSTALL --build --library=BRGenomics.buildbin-libdir BRGenomics_1.18.0.tar.gz StartedAt: 2025-02-04 08:06:10 -0500 (Tue, 04 Feb 2025) EndedAt: 2025-02-04 08:07:04 -0500 (Tue, 04 Feb 2025) EllapsedTime: 53.8 seconds RetCode: 0 Status: OK PackageFile: BRGenomics_1.18.0.zip PackageFileSize: 3.791 MiB