Package: BRGenomics Version: 1.18.0 Command: /home/biocbuild/R/R/bin/R CMD build --keep-empty-dirs --no-resave-data BRGenomics StartedAt: 2025-01-30 22:16:18 -0000 (Thu, 30 Jan 2025) EndedAt: 2025-01-30 22:18:03 -0000 (Thu, 30 Jan 2025) EllapsedTime: 105.0 seconds RetCode: 0 Status: OK PackageFile: BRGenomics_1.18.0.tar.gz PackageFileSize: 4.4 MiB