Package: BRGenomics Version: 1.18.0 Command: /home/biocbuild/R/R/bin/R CMD INSTALL BRGenomics StartedAt: 2025-01-30 20:24:03 -0000 (Thu, 30 Jan 2025) EndedAt: 2025-01-30 20:24:45 -0000 (Thu, 30 Jan 2025) EllapsedTime: 41.4 seconds RetCode: 0 Status: OK