Package: BSgenome Version: 1.74.0 Command: /Library/Frameworks/R.framework/Resources/bin/R CMD check --install=check:BSgenome.install-out.txt --library=/Library/Frameworks/R.framework/Resources/library --no-vignettes --timings BSgenome_1.74.0.tar.gz StartedAt: 2025-02-11 13:08:52 -0500 (Tue, 11 Feb 2025) EndedAt: 2025-02-11 13:16:04 -0500 (Tue, 11 Feb 2025) EllapsedTime: 431.9 seconds RetCode: 0 Status: WARNINGS CheckDir: BSgenome.Rcheck Warnings: 1