Package: BSgenome Version: 1.74.0 Command: /Library/Frameworks/R.framework/Resources/bin/R CMD INSTALL BSgenome StartedAt: 2025-02-10 15:33:53 -0500 (Mon, 10 Feb 2025) EndedAt: 2025-02-10 15:35:32 -0500 (Mon, 10 Feb 2025) EllapsedTime: 99.1 seconds RetCode: 0 Status: OK