Package: BSgenome Version: 1.74.0 Command: chmod a+r BSgenome -R && F:\biocbuild\bbs-3.20-bioc\R\bin\R.exe CMD build --keep-empty-dirs --no-resave-data BSgenome StartedAt: 2025-02-10 17:47:23 -0500 (Mon, 10 Feb 2025) EndedAt: 2025-02-10 17:50:28 -0500 (Mon, 10 Feb 2025) EllapsedTime: 185.7 seconds RetCode: 0 Status: OK PackageFile: BSgenome_1.74.0.tar.gz PackageFileSize: 5.457 MiB