Package: BSgenome Version: 1.74.0 Command: /home/biocbuild/R/R/bin/R CMD INSTALL BSgenome StartedAt: 2025-02-10 20:28:25 -0000 (Mon, 10 Feb 2025) EndedAt: 2025-02-10 20:29:21 -0000 (Mon, 10 Feb 2025) EllapsedTime: 56.1 seconds RetCode: 0 Status: OK