Package: BSgenomeForge Version: 1.6.0 Command: /Library/Frameworks/R.framework/Resources/bin/R CMD check --install=check:BSgenomeForge.install-out.txt --library=/Library/Frameworks/R.framework/Resources/library --no-vignettes --timings BSgenomeForge_1.6.0.tar.gz StartedAt: 2025-02-11 13:09:28 -0500 (Tue, 11 Feb 2025) EndedAt: 2025-02-11 13:14:32 -0500 (Tue, 11 Feb 2025) EllapsedTime: 304.2 seconds RetCode: 0 Status: OK CheckDir: BSgenomeForge.Rcheck Warnings: 0