Package: BSgenomeForge Version: 1.6.0 Command: /Library/Frameworks/R.framework/Resources/bin/R CMD INSTALL BSgenomeForge StartedAt: 2025-02-10 16:14:02 -0500 (Mon, 10 Feb 2025) EndedAt: 2025-02-10 16:14:41 -0500 (Mon, 10 Feb 2025) EllapsedTime: 39.2 seconds RetCode: 0 Status: OK