Package: BSgenomeForge Version: 1.6.0 Command: /Library/Frameworks/R.framework/Resources/bin/R CMD build --keep-empty-dirs --no-resave-data BSgenomeForge StartedAt: 2025-02-10 17:27:31 -0500 (Mon, 10 Feb 2025) EndedAt: 2025-02-10 17:29:30 -0500 (Mon, 10 Feb 2025) EllapsedTime: 119.1 seconds RetCode: 0 Status: OK PackageFile: BSgenomeForge_1.6.0.tar.gz PackageFileSize: 693.4 KiB