Package: BSgenomeForge Version: 1.6.0 Command: /Library/Frameworks/R.framework/Resources/bin/R CMD check --install=check:BSgenomeForge.install-out.txt --library=/Library/Frameworks/R.framework/Resources/library --no-vignettes --timings BSgenomeForge_1.6.0.tar.gz StartedAt: 2025-02-04 00:39:38 -0500 (Tue, 04 Feb 2025) EndedAt: 2025-02-04 00:48:09 -0500 (Tue, 04 Feb 2025) EllapsedTime: 511.0 seconds RetCode: 0 Status: OK CheckDir: BSgenomeForge.Rcheck Warnings: 0