Package: BSgenomeForge Version: 1.6.0 Command: /home/biocbuild/bbs-3.20-bioc/R/bin/R CMD check --install=check:BSgenomeForge.install-out.txt --library=/home/biocbuild/bbs-3.20-bioc/R/site-library --timings BSgenomeForge_1.6.0.tar.gz StartedAt: 2025-02-03 20:37:06 -0500 (Mon, 03 Feb 2025) EndedAt: 2025-02-03 20:41:32 -0500 (Mon, 03 Feb 2025) EllapsedTime: 266.3 seconds RetCode: 0 Status: OK CheckDir: BSgenomeForge.Rcheck Warnings: 0