Package: BSgenomeForge Version: 1.6.0 Command: chmod a+r BSgenomeForge -R && F:\biocbuild\bbs-3.20-bioc\R\bin\R.exe CMD build --keep-empty-dirs --no-resave-data BSgenomeForge StartedAt: 2025-02-03 17:53:40 -0500 (Mon, 03 Feb 2025) EndedAt: 2025-02-03 17:55:16 -0500 (Mon, 03 Feb 2025) EllapsedTime: 96.5 seconds RetCode: 0 Status: OK PackageFile: BSgenomeForge_1.6.0.tar.gz PackageFileSize: 455.7 KiB