Package: BSgenomeForge Version: 1.6.0 Command: F:\biocbuild\bbs-3.20-bioc\R\bin\R.exe CMD check --no-multiarch --install=check:BSgenomeForge.install-out.txt --library=F:\biocbuild\bbs-3.20-bioc\R\library --no-vignettes --timings BSgenomeForge_1.6.0.tar.gz StartedAt: 2025-02-03 23:51:54 -0500 (Mon, 03 Feb 2025) EndedAt: 2025-02-03 23:56:42 -0500 (Mon, 03 Feb 2025) EllapsedTime: 288.3 seconds RetCode: 1 Status: ERROR CheckDir: BSgenomeForge.Rcheck Warnings: NA