Package: BSgenomeForge Version: 1.6.0 Command: /home/biocbuild/R/R/bin/R CMD build --keep-empty-dirs --no-resave-data BSgenomeForge StartedAt: 2025-02-03 22:18:12 -0000 (Mon, 03 Feb 2025) EndedAt: 2025-02-03 22:19:37 -0000 (Mon, 03 Feb 2025) EllapsedTime: 85.0 seconds RetCode: 0 Status: OK PackageFile: BSgenomeForge_1.6.0.tar.gz PackageFileSize: 708.4 KiB