Package: BSgenomeForge Version: 1.6.0 Command: /home/biocbuild/R/R/bin/R CMD INSTALL BSgenomeForge StartedAt: 2025-02-03 20:45:01 -0000 (Mon, 03 Feb 2025) EndedAt: 2025-02-03 20:45:39 -0000 (Mon, 03 Feb 2025) EllapsedTime: 38.4 seconds RetCode: 0 Status: OK