Package: BUS Version: 1.62.0 Command: /Library/Frameworks/R.framework/Resources/bin/R CMD build --keep-empty-dirs --no-resave-data BUS StartedAt: 2025-02-10 20:03:58 -0500 (Mon, 10 Feb 2025) EndedAt: 2025-02-10 20:04:11 -0500 (Mon, 10 Feb 2025) EllapsedTime: 12.6 seconds RetCode: 0 Status: OK PackageFile: BUS_1.62.0.tar.gz PackageFileSize: 2.823 MiB