Package: BUS Version: 1.62.0 Command: /Library/Frameworks/R.framework/Resources/bin/R CMD INSTALL BUS StartedAt: 2025-02-03 17:55:38 -0500 (Mon, 03 Feb 2025) EndedAt: 2025-02-03 17:55:42 -0500 (Mon, 03 Feb 2025) EllapsedTime: 4.6 seconds RetCode: 0 Status: OK