Package: BUS Version: 1.62.0 Command: /Library/Frameworks/R.framework/Resources/bin/R CMD build --keep-empty-dirs --no-resave-data BUS StartedAt: 2025-02-03 17:35:15 -0500 (Mon, 03 Feb 2025) EndedAt: 2025-02-03 17:35:37 -0500 (Mon, 03 Feb 2025) EllapsedTime: 21.2 seconds RetCode: 0 Status: OK PackageFile: BUS_1.62.0.tar.gz PackageFileSize: 2.823 MiB