Package: BUS Version: 1.62.0 Command: /Library/Frameworks/R.framework/Resources/bin/R CMD INSTALL BUS StartedAt: 2025-02-03 16:40:07 -0500 (Mon, 03 Feb 2025) EndedAt: 2025-02-03 16:40:15 -0500 (Mon, 03 Feb 2025) EllapsedTime: 7.4 seconds RetCode: 0 Status: OK