Package: BUS Version: 1.62.0 Command: /home/biocbuild/bbs-3.20-bioc/R/bin/R CMD INSTALL BUS StartedAt: 2025-02-03 16:03:35 -0500 (Mon, 03 Feb 2025) EndedAt: 2025-02-03 16:03:38 -0500 (Mon, 03 Feb 2025) EllapsedTime: 3.1 seconds RetCode: 0 Status: OK