Package: BUS Version: 1.62.0 Command: rm -rf BUS.buildbin-libdir && mkdir BUS.buildbin-libdir && F:\biocbuild\bbs-3.20-bioc\R\bin\R.exe CMD INSTALL --build --library=BUS.buildbin-libdir BUS_1.62.0.tar.gz StartedAt: 2025-02-04 08:06:49 -0500 (Tue, 04 Feb 2025) EndedAt: 2025-02-04 08:07:00 -0500 (Tue, 04 Feb 2025) EllapsedTime: 10.5 seconds RetCode: 0 Status: OK PackageFile: BUS_1.62.0.zip PackageFileSize: 1.855 MiB