Package: BUS Version: 1.62.0 Command: chmod a+r BUS -R && F:\biocbuild\bbs-3.20-bioc\R\bin\R.exe CMD build --keep-empty-dirs --no-resave-data BUS StartedAt: 2025-02-03 17:54:25 -0500 (Mon, 03 Feb 2025) EndedAt: 2025-02-03 17:54:44 -0500 (Mon, 03 Feb 2025) EllapsedTime: 18.2 seconds RetCode: 0 Status: OK PackageFile: BUS_1.62.0.tar.gz PackageFileSize: 2.72 MiB