Package: BUS Version: 1.62.0 Command: /home/biocbuild/R/R/bin/R CMD build --keep-empty-dirs --no-resave-data BUS StartedAt: 2025-02-03 22:19:16 -0000 (Mon, 03 Feb 2025) EndedAt: 2025-02-03 22:19:24 -0000 (Mon, 03 Feb 2025) EllapsedTime: 8.0 seconds RetCode: 0 Status: OK PackageFile: BUS_1.62.0.tar.gz PackageFileSize: 2.815 MiB