Package: BUS Version: 1.62.0 Command: /home/biocbuild/R/R/bin/R CMD INSTALL BUS StartedAt: 2025-02-03 21:17:14 -0000 (Mon, 03 Feb 2025) EndedAt: 2025-02-03 21:17:18 -0000 (Mon, 03 Feb 2025) EllapsedTime: 4.0 seconds RetCode: 0 Status: OK