Package: BUS Version: 1.62.0 Command: /home/biocbuild/bbs-3.20-bioc/R/bin/R CMD INSTALL BUS StartedAt: 2024-11-19 17:00:13 -0500 (Tue, 19 Nov 2024) EndedAt: 2024-11-19 17:00:16 -0500 (Tue, 19 Nov 2024) EllapsedTime: 3.0 seconds RetCode: 0 Status: OK