Package: BUScorrect Version: 1.24.0 Command: /Library/Frameworks/R.framework/Resources/bin/R CMD check --install=check:BUScorrect.install-out.txt --library=/Library/Frameworks/R.framework/Resources/library --no-vignettes --timings BUScorrect_1.24.0.tar.gz StartedAt: 2025-01-31 13:09:50 -0500 (Fri, 31 Jan 2025) EndedAt: 2025-01-31 13:13:31 -0500 (Fri, 31 Jan 2025) EllapsedTime: 221.0 seconds RetCode: 0 Status: OK CheckDir: BUScorrect.Rcheck Warnings: 0