Package: BUScorrect Version: 1.24.0 Command: rm -rf BUScorrect.buildbin-libdir && mkdir BUScorrect.buildbin-libdir && /Users/biocbuild/BBS/utils/build-universal.sh BUScorrect_1.24.0.tar.gz /Library/Frameworks/R.framework/Resources/bin/R BUScorrect.buildbin-libdir StartedAt: 2025-02-04 12:35:01 -0500 (Tue, 04 Feb 2025) EndedAt: 2025-02-04 12:35:50 -0500 (Tue, 04 Feb 2025) EllapsedTime: 49.4 seconds RetCode: 0 Status: OK PackageFile: BUScorrect_1.24.0.tgz PackageFileSize: 3.6 MiB