Package: BUScorrect Version: 1.24.0 Command: /Library/Frameworks/R.framework/Resources/bin/R CMD INSTALL BUScorrect StartedAt: 2025-02-03 15:24:03 -0500 (Mon, 03 Feb 2025) EndedAt: 2025-02-03 15:24:50 -0500 (Mon, 03 Feb 2025) EllapsedTime: 46.5 seconds RetCode: 0 Status: OK