Package: BUScorrect Version: 1.24.0 Command: /home/biocbuild/bbs-3.20-bioc/R/bin/R CMD build --keep-empty-dirs --no-resave-data --md5 BUScorrect StartedAt: 2025-01-30 16:31:49 -0500 (Thu, 30 Jan 2025) EndedAt: 2025-01-30 16:33:36 -0500 (Thu, 30 Jan 2025) EllapsedTime: 107.1 seconds RetCode: 0 Status: OK PackageFile: BUScorrect_1.24.0.tar.gz PackageFileSize: 3.518 MiB