Package: BUScorrect Version: 1.24.0 Command: chmod a+r BUScorrect -R && F:\biocbuild\bbs-3.20-bioc\R\bin\R.exe CMD build --keep-empty-dirs --no-resave-data BUScorrect StartedAt: 2025-02-03 17:54:32 -0500 (Mon, 03 Feb 2025) EndedAt: 2025-02-03 17:57:17 -0500 (Mon, 03 Feb 2025) EllapsedTime: 165.6 seconds RetCode: 0 Status: OK PackageFile: BUScorrect_1.24.0.tar.gz PackageFileSize: 3.52 MiB