Package: BUScorrect Version: 1.24.0 Command: /home/biocbuild/bbs-3.20-bioc/R/bin/R CMD check --install=check:BUScorrect.install-out.txt --library=/home/biocbuild/bbs-3.20-bioc/R/site-library --timings BUScorrect_1.24.0.tar.gz StartedAt: 2024-11-19 23:45:44 -0500 (Tue, 19 Nov 2024) EndedAt: 2024-11-19 23:49:26 -0500 (Tue, 19 Nov 2024) EllapsedTime: 222.9 seconds RetCode: 0 Status: OK CheckDir: BUScorrect.Rcheck Warnings: 0