Package: BUSpaRse Version: 1.20.0 Command: /Library/Frameworks/R.framework/Resources/bin/R CMD build --keep-empty-dirs --no-resave-data BUSpaRse StartedAt: 2025-02-03 19:53:34 -0500 (Mon, 03 Feb 2025) EndedAt: 2025-02-03 19:56:44 -0500 (Mon, 03 Feb 2025) EllapsedTime: 190.2 seconds RetCode: 0 Status: OK PackageFile: BUSpaRse_1.20.0.tar.gz PackageFileSize: 578.2 KiB