Package: BUSpaRse Version: 1.20.0 Command: /Library/Frameworks/R.framework/Resources/bin/R CMD INSTALL BUSpaRse StartedAt: 2025-02-10 16:32:00 -0500 (Mon, 10 Feb 2025) EndedAt: 2025-02-10 16:33:06 -0500 (Mon, 10 Feb 2025) EllapsedTime: 65.9 seconds RetCode: 0 Status: OK