Package: BUSpaRse Version: 1.20.0 Command: /home/biocbuild/bbs-3.20-bioc/R/bin/R CMD INSTALL BUSpaRse StartedAt: 2025-02-03 15:35:44 -0500 (Mon, 03 Feb 2025) EndedAt: 2025-02-03 15:36:43 -0500 (Mon, 03 Feb 2025) EllapsedTime: 59.0 seconds RetCode: 0 Status: OK