Package: BUSpaRse Version: 1.20.0 Command: rm -rf BUSpaRse.buildbin-libdir && mkdir BUSpaRse.buildbin-libdir && F:\biocbuild\bbs-3.20-bioc\R\bin\R.exe CMD INSTALL --build --library=BUSpaRse.buildbin-libdir BUSpaRse_1.20.0.tar.gz StartedAt: 2025-02-11 08:04:15 -0500 (Tue, 11 Feb 2025) EndedAt: 2025-02-11 08:07:08 -0500 (Tue, 11 Feb 2025) EllapsedTime: 173.3 seconds RetCode: 0 Status: OK PackageFile: BUSpaRse_1.20.0.zip PackageFileSize: 1.123 MiB