Package: BUSpaRse Version: 1.20.0 Command: F:\biocbuild\bbs-3.20-bioc\R\bin\R.exe CMD check --no-multiarch --install=check:BUSpaRse.install-out.txt --library=F:\biocbuild\bbs-3.20-bioc\R\library --no-vignettes --timings BUSpaRse_1.20.0.tar.gz StartedAt: 2025-02-03 23:53:50 -0500 (Mon, 03 Feb 2025) EndedAt: 2025-02-04 00:03:50 -0500 (Tue, 04 Feb 2025) EllapsedTime: 600.1 seconds RetCode: 0 Status: OK CheckDir: BUSpaRse.Rcheck Warnings: 0