Package: BUSpaRse Version: 1.20.0 Command: /home/biocbuild/R/R/bin/R CMD check --install=check:BUSpaRse.install-out.txt --library=/home/biocbuild/R/R/site-library --no-vignettes --timings BUSpaRse_1.20.0.tar.gz StartedAt: 2025-02-04 05:15:36 -0000 (Tue, 04 Feb 2025) EndedAt: 2025-02-04 05:25:04 -0000 (Tue, 04 Feb 2025) EllapsedTime: 567.3 seconds RetCode: 0 Status: OK CheckDir: BUSpaRse.Rcheck Warnings: 0