Package: BaalChIP Version: 1.32.0 Command: /Library/Frameworks/R.framework/Resources/bin/R CMD check --install=check:BaalChIP.install-out.txt --library=/Library/Frameworks/R.framework/Resources/library --no-vignettes --timings BaalChIP_1.32.0.tar.gz StartedAt: 2025-02-11 11:40:14 -0500 (Tue, 11 Feb 2025) EndedAt: 2025-02-11 11:50:47 -0500 (Tue, 11 Feb 2025) EllapsedTime: 632.9 seconds RetCode: 0 Status: WARNINGS CheckDir: BaalChIP.Rcheck Warnings: 1