Package: BaalChIP Version: 1.32.0 Command: rm -rf BaalChIP.buildbin-libdir && mkdir BaalChIP.buildbin-libdir && /Users/biocbuild/BBS/utils/build-universal.sh BaalChIP_1.32.0.tar.gz /Library/Frameworks/R.framework/Resources/bin/R BaalChIP.buildbin-libdir StartedAt: 2025-02-04 12:29:09 -0500 (Tue, 04 Feb 2025) EndedAt: 2025-02-04 12:32:16 -0500 (Tue, 04 Feb 2025) EllapsedTime: 186.9 seconds RetCode: 0 Status: OK PackageFile: BaalChIP_1.32.0.tgz PackageFileSize: 107.2 MiB