Package: BaalChIP Version: 1.32.0 Command: /Library/Frameworks/R.framework/Resources/bin/R CMD build --keep-empty-dirs --no-resave-data BaalChIP StartedAt: 2025-02-03 17:09:30 -0500 (Mon, 03 Feb 2025) EndedAt: 2025-02-03 17:14:16 -0500 (Mon, 03 Feb 2025) EllapsedTime: 286.1 seconds RetCode: 0 Status: OK PackageFile: BaalChIP_1.32.0.tar.gz PackageFileSize: 45.31 MiB