Package: BaalChIP Version: 1.32.0 Command: /home/biocbuild/bbs-3.20-bioc/R/bin/R CMD check --install=check:BaalChIP.install-out.txt --library=/home/biocbuild/bbs-3.20-bioc/R/site-library --timings BaalChIP_1.32.0.tar.gz StartedAt: 2025-02-03 20:09:48 -0500 (Mon, 03 Feb 2025) EndedAt: 2025-02-03 20:19:45 -0500 (Mon, 03 Feb 2025) EllapsedTime: 597.0 seconds RetCode: 0 Status: WARNINGS CheckDir: BaalChIP.Rcheck Warnings: 1