Package: BaalChIP Version: 1.32.0 Command: /home/biocbuild/R/R/bin/R CMD build --keep-empty-dirs --no-resave-data BaalChIP StartedAt: 2025-02-03 21:43:53 -0000 (Mon, 03 Feb 2025) EndedAt: 2025-02-03 21:46:36 -0000 (Mon, 03 Feb 2025) EllapsedTime: 163.1 seconds RetCode: 0 Status: OK PackageFile: BaalChIP_1.32.0.tar.gz PackageFileSize: 44.89 MiB