Package: Banksy Version: 1.2.0 Command: /Library/Frameworks/R.framework/Resources/bin/R CMD build --keep-empty-dirs --no-resave-data Banksy StartedAt: 2025-02-03 19:02:19 -0500 (Mon, 03 Feb 2025) EndedAt: 2025-02-03 19:11:27 -0500 (Mon, 03 Feb 2025) EllapsedTime: 547.1 seconds RetCode: 0 Status: OK PackageFile: Banksy_1.2.0.tar.gz PackageFileSize: 4.197 MiB